BEGIN:VCALENDAR
VERSION:2.0
PRODID:-//Kinder fördern, Kinder schützen, Familien stärken - ECPv6.15.20//NONSGML v1.0//EN
CALSCALE:GREGORIAN
METHOD:PUBLISH
X-WR-CALNAME:Kinder fördern, Kinder schützen, Familien stärken
X-ORIGINAL-URL:https://familien-netzwerk-idstein.de
X-WR-CALDESC:Veranstaltungen für Kinder fördern, Kinder schützen, Familien stärken
REFRESH-INTERVAL;VALUE=DURATION:PT1H
X-Robots-Tag:noindex
X-PUBLISHED-TTL:PT1H
BEGIN:VTIMEZONE
TZID:Europe/Berlin
BEGIN:DAYLIGHT
TZOFFSETFROM:+0100
TZOFFSETTO:+0200
TZNAME:CEST
DTSTART:20240331T010000
END:DAYLIGHT
BEGIN:STANDARD
TZOFFSETFROM:+0200
TZOFFSETTO:+0100
TZNAME:CET
DTSTART:20241027T010000
END:STANDARD
BEGIN:DAYLIGHT
TZOFFSETFROM:+0100
TZOFFSETTO:+0200
TZNAME:CEST
DTSTART:20250330T010000
END:DAYLIGHT
BEGIN:STANDARD
TZOFFSETFROM:+0200
TZOFFSETTO:+0100
TZNAME:CET
DTSTART:20251026T010000
END:STANDARD
BEGIN:DAYLIGHT
TZOFFSETFROM:+0100
TZOFFSETTO:+0200
TZNAME:CEST
DTSTART:20260329T010000
END:DAYLIGHT
BEGIN:STANDARD
TZOFFSETFROM:+0200
TZOFFSETTO:+0100
TZNAME:CET
DTSTART:20261025T010000
END:STANDARD
END:VTIMEZONE
BEGIN:VEVENT
DTSTART;TZID=Europe/Berlin:20250906T100000
DTEND;TZID=Europe/Berlin:20250906T140000
DTSTAMP:20260424T123406
CREATED:20250804T080536Z
LAST-MODIFIED:20250901T141953Z
UID:3244-1757152800-1757167200@familien-netzwerk-idstein.de
SUMMARY:Idsteiner Familien-Fachtag
DESCRIPTION:Die Hochschulstadt Idstein veranstaltet gemeinsam mit den Kooperations- und Netzwerkpartnern des Idsteiner Netzwerkes für Familien einen \n \n  \nIdsteiner Familien-Fachtag \n„UN-Kinderrechte“\nam Samstag\, den 6. September 2025\nin der Zeit von 10.00 Uhr bis 14.00 Uhr\nin der Stadthalle und Gerberhaus. \n  \n  \nDer Idsteiner Familien-Fachtag 2025 präsentiert den kleinen und großen Besuchern ein vielfältiges Aktions- und Mitmachprogramm in der Stadthalle und im Gerberhaus. Mit einer „Kinderrechte-Ausstellung“ sowie mit praxisnahen Workshops und besonderen Vorträgen\, z.B. Erste Hilfe am Kind\, Stimmentwicklung\, Mitsprache & Grenzen\, Rechte von Kindern werden den Besucherinnen und Besucher interessante Informationen mit vielfältigen Aktionen geboten. \nIdsteiner Kinderrechte-Ausstellung \nDie Idsteiner Kinderrechte-Ausstellung setzt sich aus verschiedensten Präsentationen der teilnehmenden Idsteiner Kindertagesstätten zusammensetzen\, welche zum Dialog oder zu einer Mitmach-Aktion einladen. \nDie „Kinderrechte-Ausstellung“ der Idsteiner Kindertagesstätten umfasst u. a. die nachfolgenden UN-Kinderechte: \nSchutz vor Gewalt\, Recht auf Information und Beteiligung\, Recht auf Bildung\, Recht auf Privatsphäre\, Recht auf Gleichheit\, Recht auf Freizeit und Spiel\, Recht auf Erholung\, Recht auf Gesundheit\, Recht auf besondere Fürsorge bei Behinderung sowie das Recht auf Fürsorge der Eltern. \n„Kinder fördern – Kinder schützen – Familien stärken“ – Das Idsteiner Netzwerk für Familien wurde mit viel Engagement vor 14 Jahren gegründet. Ziel war es\, eine Vielzahl unterschiedlicher Kooperationspartner im Kinderschutz unter dem Leitgedanken „es braucht ein ganzes Dorf\, um ein Kind zu erziehen“ (Afrikanisches Sprichwort) zu verbinden. Im Kern kümmert sich das lokale Kooperationsnetzwerk in einem guten Miteinander darum\, Kindern und Jugendlichen mit ihren Familien ein vielfältiges Unterstützungs-\, Hilfe- und Präventionsnetzwerk anzubieten. \nUnser Programm für Sie: \n\n\n\nUhrzeit\nRaum\nThema\nMehr Informationen\n\n\n10:00 Uhr\nSaal 1\nBegrüßung\n\n\n\n10:30-14:00 Uhr\nStadthalle & Gerberhaus\nWorld Café – Infostände\nKinderrechte-Ausstellung der Kindertagesstätten\, Mitmachaktionen für Kinder & Jugendliche\, 42 Infostände der Netzwerkpartner ….\nLink: World Café \n\n\n10:30-11:30 Uhr\nStadthalle „Clubraum“\nErste Hilfe am Kind\nBasischeck/Basismaßnahmen\, Maßnahmen beim Verschlucken\, Seitenlage\, Druckverband\, Wiederbelebung\nSimon Müller\, Bildungszentrum und Praxis R&N\nLink: Workshop\n\n\n10:30-11:30 Uhr\nGerberhaus „Seminarraum OG“\nOft heißt es: „Kinder brauchen Wurzeln und Flügel“. Was meint dieser Spruch und gilt er auch noch in der heutigen Zeit?\nBernhard Wimmer-Kistler\, Jugend- und Familienberatungsstelle Idstein\nLink: Elterngesprächskreis\n\n\n11:00-12:00 Uhr\nStadthalle „Saal 3“\nHilfe: Mein Kind kennt seine Rechte!\nReferentin: Miriam Zeleke\, Landesbeauftragte für Beteiligung und Förderung von Kindern und Jugendlichen (HSMI)\nLink: Workshop\n\n\n11:45-12:15 Uhr\nStadthalle „Clubraum“\nUnsere Stimme im Wandel der Lebensspanne\nAnna Teufel-Dietrich\, Hochschule Fresenius FB Logopädie\nLink: Fachvortrag\n\n\n11:45-12:45 Uhr\nGerberhaus „Seminarraum OG“\nMitsprache\, Grenzen\, Verantwortung – So macht ehrliche Beteiligung Kinder wirklich stark\nMadeleine Haus\, Praxis für Systemische Einzel- und Familienberatung\nLink: Fachvortrag\n\n\n12:15-14:00 Uhr\nStadthalle „Saal 3“\nKindheit 2.0- Einblick in das digitale Kinderzimmer\nGünter Steppich\, Referent für Jugendmedienschutz im Auftrag des Hessischen Ministeriums für Kultus\, Bildung und Chancen\nLink: Fachvortrag\n\n\n12:30-14:00 Uhr\nStadthalle „Clubraum“\n„Eltern Kind Stunde“\, „Ukulele“ und „Trommelworkshop“\nJulia Köhler\, Musikschule Piccolo\nLink: Workshops\n\n\n13:00-14:00 Uhr\nGerberhaus „Seminarraum OG“\nLernen darf Spaß machen – Aus der Praxis für die Praxis: Tipps für eine streitfreie Lern- und Hausaufgabenzeit\nPeggy Karmrodt\, KompassKids – Lerncoaching für Kinder und Jugendliche\nLink: Fachvortrag\n\n\n\nDie Veranstaltung endet um 14.00 Uhr. Der Besuch des Familientags ist kostenfrei. \nDie Hochschulstadt Idstein dankt allen Kooperations- und Netzwerkpartnern\, die zum Gelingen des 1. Familienfachtags beitragen. \nWir freuen uns auf viele große und kleine Besucher! \nDownload: \n\nFamilien-Fachtag (Flyer)\nFamilien-Fachtag (Plakat)
URL:https://familien-netzwerk-idstein.de/event/3244/
LOCATION:Stadthalle Idstein & Gerberhaus\, Löherplatz\, Idstein\, 65510\, Germany
END:VEVENT
END:VCALENDAR