BEGIN:VCALENDAR
VERSION:2.0
PRODID:-//Kinder fördern, Kinder schützen, Familien stärken - ECPv6.15.20//NONSGML v1.0//EN
CALSCALE:GREGORIAN
METHOD:PUBLISH
X-WR-CALNAME:Kinder fördern, Kinder schützen, Familien stärken
X-ORIGINAL-URL:https://familien-netzwerk-idstein.de
X-WR-CALDESC:Veranstaltungen für Kinder fördern, Kinder schützen, Familien stärken
REFRESH-INTERVAL;VALUE=DURATION:PT1H
X-Robots-Tag:noindex
X-PUBLISHED-TTL:PT1H
BEGIN:VTIMEZONE
TZID:Europe/Berlin
BEGIN:DAYLIGHT
TZOFFSETFROM:+0100
TZOFFSETTO:+0200
TZNAME:CEST
DTSTART:20240331T010000
END:DAYLIGHT
BEGIN:STANDARD
TZOFFSETFROM:+0200
TZOFFSETTO:+0100
TZNAME:CET
DTSTART:20241027T010000
END:STANDARD
BEGIN:DAYLIGHT
TZOFFSETFROM:+0100
TZOFFSETTO:+0200
TZNAME:CEST
DTSTART:20250330T010000
END:DAYLIGHT
BEGIN:STANDARD
TZOFFSETFROM:+0200
TZOFFSETTO:+0100
TZNAME:CET
DTSTART:20251026T010000
END:STANDARD
BEGIN:DAYLIGHT
TZOFFSETFROM:+0100
TZOFFSETTO:+0200
TZNAME:CEST
DTSTART:20260329T010000
END:DAYLIGHT
BEGIN:STANDARD
TZOFFSETFROM:+0200
TZOFFSETTO:+0100
TZNAME:CET
DTSTART:20261025T010000
END:STANDARD
END:VTIMEZONE
BEGIN:VEVENT
DTSTART;TZID=Europe/Berlin:20250919T200000
DTEND;TZID=Europe/Berlin:20250919T200000
DTSTAMP:20260423T172704
CREATED:20250908T135217Z
LAST-MODIFIED:20250908T135338Z
UID:3324-1758312000-1758312000@familien-netzwerk-idstein.de
SUMMARY:Mondsüchtig! Eine musikalische Reise um den Mond
DESCRIPTION:Der Mond verzaubert uns\, er weckt Sehnsüchte\, er erzeugt Liebestaumel oder schlaflose Nächte\, er hat die Kraft\, das Wasser in den Ozeanen zu bewegen. Der Mond beherrscht uns\, und er beherrscht auch die Musik. Unzählige Songs handeln vom Mond und seinen geheimnisvollen Einflüssen. Die bekannte amerikanische Sängerin Deborah Cole und der Pianist Karl H. Nagel präsentieren mit Unterstützung einiger GesangsschülerInnen aus der Klasse von Deborah Cole eine bunte Auswahl daraus\, von Operetten-Melodien bis zu Jazz-Standards. Das Programm „Mondsüchtig!“ umfasst heitere und beschwingte Musikstücke\, wie „That’s Amore“\, „Fly Me To The Moon“ oder „Moondance“\, aber auch besinnliche und träumerische Beschwörungen des Mondes\, wie „Moon River“ oder „Memory“. Das Konzert rund um den Mond findet am Freitag\, 19. September um 20 Uhr im Herrenspeicher (Schlossgasse 8 Idstein) statt; der Eintritt ist frei\, eine Spende für die Künstler ist erwünscht. \n„Mondsüchtig!“ ist ein mitreißendes\, unterhaltsames Programm\, das die Kraft und den Einfluss des Mondes auf einer spannenden musikalischen Reise erkundet. Mondsüchtig oder nicht – jede und jeder wird sich angesprochen fühlen von den Melodien und Texten aus den verschiedenen musikalischen Sparten und eigene Erfahrungen mit dem faszinierenden\, rätselhaften Mond wiedererkennen.
URL:https://familien-netzwerk-idstein.de/event/mondsuechtig-eine-musikalische-reise-um-den-mond/
LOCATION:Musikschule Idstein\, Schlossgasse 8\, Idstein\, 65510\, Deutschland
END:VEVENT
END:VCALENDAR