BEGIN:VCALENDAR
VERSION:2.0
PRODID:-//Kinder fördern, Kinder schützen, Familien stärken - ECPv6.15.20//NONSGML v1.0//EN
CALSCALE:GREGORIAN
METHOD:PUBLISH
X-ORIGINAL-URL:https://familien-netzwerk-idstein.de
X-WR-CALDESC:Veranstaltungen für Kinder fördern, Kinder schützen, Familien stärken
REFRESH-INTERVAL;VALUE=DURATION:PT1H
X-Robots-Tag:noindex
X-PUBLISHED-TTL:PT1H
BEGIN:VTIMEZONE
TZID:Europe/Berlin
BEGIN:DAYLIGHT
TZOFFSETFROM:+0100
TZOFFSETTO:+0200
TZNAME:CEST
DTSTART:20240331T010000
END:DAYLIGHT
BEGIN:STANDARD
TZOFFSETFROM:+0200
TZOFFSETTO:+0100
TZNAME:CET
DTSTART:20241027T010000
END:STANDARD
BEGIN:DAYLIGHT
TZOFFSETFROM:+0100
TZOFFSETTO:+0200
TZNAME:CEST
DTSTART:20250330T010000
END:DAYLIGHT
BEGIN:STANDARD
TZOFFSETFROM:+0200
TZOFFSETTO:+0100
TZNAME:CET
DTSTART:20251026T010000
END:STANDARD
BEGIN:DAYLIGHT
TZOFFSETFROM:+0100
TZOFFSETTO:+0200
TZNAME:CEST
DTSTART:20260329T010000
END:DAYLIGHT
BEGIN:STANDARD
TZOFFSETFROM:+0200
TZOFFSETTO:+0100
TZNAME:CET
DTSTART:20261025T010000
END:STANDARD
END:VTIMEZONE
BEGIN:VEVENT
DTSTART;TZID=Europe/Berlin:20251002T143000
DTEND;TZID=Europe/Berlin:20251002T163000
DTSTAMP:20260420T220601
CREATED:20251010T074826Z
LAST-MODIFIED:20251010T074826Z
UID:3353-1759415400-1759422600@familien-netzwerk-idstein.de
SUMMARY:WIR-Café im Oktober
DESCRIPTION:Das Eltern-Kind-Café des Geburtshauses Idstein stellt sich vor \nAm Donnerstag\, den 2. Oktober 2025\, stellt sich das Geburtshaus Idstein im WIR-Café im Haus der Begegnung\, Schulgasse 7\, ab 14.30 Uhr vor.\nIm Mittelpunkt steht das offene Angebot des Geburtshauses für Eltern mit Kindern im ersten Lebensjahr: das Eltern-Kind-Café.\nDas Projekt wird im Rahmen der Bundesinitiative “Frühe Hilfen“ von der Hochschulstadt Idstein und dem Rheingau-Taunus-Kreis unterstützt und ist für alle Teilnehmenden kostenlos. \n Das Eltern-Kind Café findet mittwochs in der Zeit von 9.30 Uhr bis 11.00 Uhr statt. Schwangere\, Mütter und Väter haben hier die Möglichkeit\, sich in geschützter Atmosphäre bei einem gemeinsamen Frühstück auszutauschen und durch eine Familienhebamme beraten zu lassen. Einmal im Monat werden zusätzlich Vorträge und Themenrunden angeboten\, zum Beispiel zu Beikost\, Babyschlaf\, Allergieprävention\, Sprachentwicklung\, Babymassage oder Notfälle im Säuglingsalter.\nDie Mitbegründerin des Geburtshauses\, die Idsteiner Hebamme Christiane Bossong\, wird über das Eltern-Kind-Café berichten. \nDas WIR-Café der Hochschulstadt Idstein\, organisiert vom Amt für Soziales\, Jugend und Sport\, richtet sich als offenes Angebot an alle Idsteiner Bürgerinnen und Bürger\, mit und ohne Migrationshintergrund\, sowie gleichermaßen an Geflüchtete und Geduldete.\nSie alle sind herzlich eingeladen\, sich über das Eltern-Kind-Café im Geburtshaus zu informieren. \n 
URL:https://familien-netzwerk-idstein.de/event/wir-cafe-im-oktober-2/
LOCATION:Haus der Begegnung\, Schulgasse 7\, Idstein\, 65510
END:VEVENT
END:VCALENDAR