BEGIN:VCALENDAR
VERSION:2.0
PRODID:-//Kinder fördern, Kinder schützen, Familien stärken - ECPv6.15.20//NONSGML v1.0//EN
CALSCALE:GREGORIAN
METHOD:PUBLISH
X-WR-CALNAME:Kinder fördern, Kinder schützen, Familien stärken
X-ORIGINAL-URL:https://familien-netzwerk-idstein.de
X-WR-CALDESC:Veranstaltungen für Kinder fördern, Kinder schützen, Familien stärken
REFRESH-INTERVAL;VALUE=DURATION:PT1H
X-Robots-Tag:noindex
X-PUBLISHED-TTL:PT1H
BEGIN:VTIMEZONE
TZID:Europe/Berlin
BEGIN:DAYLIGHT
TZOFFSETFROM:+0100
TZOFFSETTO:+0200
TZNAME:CEST
DTSTART:20240331T010000
END:DAYLIGHT
BEGIN:STANDARD
TZOFFSETFROM:+0200
TZOFFSETTO:+0100
TZNAME:CET
DTSTART:20241027T010000
END:STANDARD
BEGIN:DAYLIGHT
TZOFFSETFROM:+0100
TZOFFSETTO:+0200
TZNAME:CEST
DTSTART:20250330T010000
END:DAYLIGHT
BEGIN:STANDARD
TZOFFSETFROM:+0200
TZOFFSETTO:+0100
TZNAME:CET
DTSTART:20251026T010000
END:STANDARD
BEGIN:DAYLIGHT
TZOFFSETFROM:+0100
TZOFFSETTO:+0200
TZNAME:CEST
DTSTART:20260329T010000
END:DAYLIGHT
BEGIN:STANDARD
TZOFFSETFROM:+0200
TZOFFSETTO:+0100
TZNAME:CET
DTSTART:20261025T010000
END:STANDARD
END:VTIMEZONE
BEGIN:VEVENT
DTSTART;TZID=Europe/Berlin:20251127T180000
DTEND;TZID=Europe/Berlin:20251127T203000
DTSTAMP:20260420T203531
CREATED:20251114T105341Z
LAST-MODIFIED:20251114T111411Z
UID:3388-1764266400-1764275400@familien-netzwerk-idstein.de
SUMMARY:Impulsabend "Glück genießen" Ein Abend mit Tee\, Kuchen und Inspiration
DESCRIPTION:Glück ist kein Zufall – es ist eine Entscheidung und ein Weg zu dir selbst.\nEin besonderer Abend im Teeladen Idstein: Zwischen feinen Teespezialitäten und hausgemachtem Kuchen darfst du dir eine Auszeit gönnen – und gleichzeitig Impulse für mehr Lebensfreude\, innere Stärke und Zufriedenheit mitnehmen. \nIn einem kurzen Impuls-Workshop erforschen wir\, wie Glück und Wohlbefinden entstehen – und warum Glück kein Zufall ist. Gemeinsam schauen wir darauf\, welche Facetten von Glück es gibt\, wie Genuss und kleine Alltagsmomente uns stärken und wie wir langfristig in Lebenszufriedenheit und Resilienz investieren können. \nEin Abend\, der Genuss und Inspiration verbindet – voller Raum für Begegnung\, Nachdenken und kleine Aha-Momente. \n  \nAnmeldung: Die Anmeldung erfolgt über die Website des Idsteiner Teeladens – https://idsteinerteeladen.de/shop/glueck-geniessen-271125/. oder direkt über den Button im Flyer \n  \nMehr Informationen erhalten über die Homepage unter www.lebens-funkeln.de
URL:https://familien-netzwerk-idstein.de/event/impulsabend-glueck-geniessen-ein-abend-mit-tee-kuchen-und-inspiration/
LOCATION:Idsteiner Teeladen\, König-Adolf-Platz 13\, Idstein\, 65510\, Germany
END:VEVENT
END:VCALENDAR