BEGIN:VCALENDAR
VERSION:2.0
PRODID:-//Kinder fördern, Kinder schützen, Familien stärken - ECPv6.15.20//NONSGML v1.0//EN
CALSCALE:GREGORIAN
METHOD:PUBLISH
X-ORIGINAL-URL:https://familien-netzwerk-idstein.de
X-WR-CALDESC:Veranstaltungen für Kinder fördern, Kinder schützen, Familien stärken
REFRESH-INTERVAL;VALUE=DURATION:PT1H
X-Robots-Tag:noindex
X-PUBLISHED-TTL:PT1H
BEGIN:VTIMEZONE
TZID:Europe/Berlin
BEGIN:DAYLIGHT
TZOFFSETFROM:+0100
TZOFFSETTO:+0200
TZNAME:CEST
DTSTART:20250330T010000
END:DAYLIGHT
BEGIN:STANDARD
TZOFFSETFROM:+0200
TZOFFSETTO:+0100
TZNAME:CET
DTSTART:20251026T010000
END:STANDARD
BEGIN:DAYLIGHT
TZOFFSETFROM:+0100
TZOFFSETTO:+0200
TZNAME:CEST
DTSTART:20260329T010000
END:DAYLIGHT
BEGIN:STANDARD
TZOFFSETFROM:+0200
TZOFFSETTO:+0100
TZNAME:CET
DTSTART:20261025T010000
END:STANDARD
BEGIN:DAYLIGHT
TZOFFSETFROM:+0100
TZOFFSETTO:+0200
TZNAME:CEST
DTSTART:20270328T010000
END:DAYLIGHT
BEGIN:STANDARD
TZOFFSETFROM:+0200
TZOFFSETTO:+0100
TZNAME:CET
DTSTART:20271031T010000
END:STANDARD
END:VTIMEZONE
BEGIN:VEVENT
DTSTART;TZID=Europe/Berlin:20260305T143000
DTEND;TZID=Europe/Berlin:20260305T163000
DTSTAMP:20260420T150046
CREATED:20260220T120829Z
LAST-MODIFIED:20260220T120829Z
UID:3483-1772721000-1772728200@familien-netzwerk-idstein.de
SUMMARY:WIR-Café im März
DESCRIPTION:Für Menschen mit Integrations- und/oder Inklusionshintergrund sowie interessierte Bürgerinnen und Bürger in Idstein \nThema: „Umweltpaten.Idstein“ stellen sich vor\nWann: Donnerstag\, den 5. März 2026 von 14.30 bis 16.30 Uhr\nWo: Haus der Begegnung\, Schulgasse 7\, 65510 Idstein \nDie „Umweltpaten.Idstein“ sind ein Zusammenschluss Idsteiner Bürgerinnen und Bürger\, die der Müll in der Stadt sowie in der Natur stört und die aktiv gegen die zunehmende Vermüllung etwas tun möchten. Das achtlose Wegwerfen sowie das illegale Entsorgen von Abfällen in der Natur und im öffentlichen Raum verursacht massive Schäden im Ökosystem. \nDie „Umweltpaten.Idstein“ engagieren sich sowohl für den Naturschutz\, verstehen sich aber auch als Botschafterinnen und Botschafter\, die mit ihren Aktionen auf das Thema der Vermüllung aufmerksam machen möchten. Unter dem Motto: „Global denken\, lokal handeln“ stehen die „Umweltpaten.Idstein“ dafür ein\, die Umwelt als Lebensgrundlage nachhaltig zu bewahren\, um den nachfolgenden Generationen eine lebenswerte Umgebung zu hinterlassen. In ihrem Vortrag im Haus der Begegnung geben die engagierten Ehrenamtlichen u.a. darüber Auskunft\, was ein Revierpate ist und wie man bei den „Umweltpaten.Idstein“ aktiv werden kann.
URL:https://familien-netzwerk-idstein.de/event/wir-cafe-im-maerz-2/
LOCATION:Haus der Begegnung\, Schulgasse 7\, Idstein\, 65510
END:VEVENT
END:VCALENDAR