BEGIN:VCALENDAR
VERSION:2.0
PRODID:-//Kinder fördern, Kinder schützen, Familien stärken - ECPv6.15.20//NONSGML v1.0//EN
CALSCALE:GREGORIAN
METHOD:PUBLISH
X-WR-CALNAME:Kinder fördern, Kinder schützen, Familien stärken
X-ORIGINAL-URL:https://familien-netzwerk-idstein.de
X-WR-CALDESC:Veranstaltungen für Kinder fördern, Kinder schützen, Familien stärken
REFRESH-INTERVAL;VALUE=DURATION:PT1H
X-Robots-Tag:noindex
X-PUBLISHED-TTL:PT1H
BEGIN:VTIMEZONE
TZID:Europe/Berlin
BEGIN:DAYLIGHT
TZOFFSETFROM:+0100
TZOFFSETTO:+0200
TZNAME:CEST
DTSTART:20240331T010000
END:DAYLIGHT
BEGIN:STANDARD
TZOFFSETFROM:+0200
TZOFFSETTO:+0100
TZNAME:CET
DTSTART:20241027T010000
END:STANDARD
BEGIN:DAYLIGHT
TZOFFSETFROM:+0100
TZOFFSETTO:+0200
TZNAME:CEST
DTSTART:20250330T010000
END:DAYLIGHT
BEGIN:STANDARD
TZOFFSETFROM:+0200
TZOFFSETTO:+0100
TZNAME:CET
DTSTART:20251026T010000
END:STANDARD
BEGIN:DAYLIGHT
TZOFFSETFROM:+0100
TZOFFSETTO:+0200
TZNAME:CEST
DTSTART:20260329T010000
END:DAYLIGHT
BEGIN:STANDARD
TZOFFSETFROM:+0200
TZOFFSETTO:+0100
TZNAME:CET
DTSTART:20261025T010000
END:STANDARD
END:VTIMEZONE
BEGIN:VEVENT
DTSTART;TZID=Europe/Berlin:20251204T143000
DTEND;TZID=Europe/Berlin:20251204T163000
DTSTAMP:20260420T174809
CREATED:20251126T091051Z
LAST-MODIFIED:20251126T091051Z
UID:3418-1764858600-1764865800@familien-netzwerk-idstein.de
SUMMARY:Weihnachtliches Beisammensein im WIR-Café
DESCRIPTION:Rückblick und Austausch über künftige Themen \nDas Büro für SIE – Senioren\, Integration und Ehrenamt – lädt zum WIR-Café am Donnerstag\, den 4. Dezember 2025\, um 14.30 Uhr in das Haus der Begegnung\, Schulgasse 7 in Idstein ein. In weihnachtlichem Ambiente möchte das Organisations-Team gemeinsam mit Besucherinnen und Besuchern sowie Vereinen und Institutionen\, die sich bereits im WIR-Café vorgestellt haben\, bei Kaffee und Kuchen auf die Themen des Jahres 2025 zurückblicken. Auch Anregungen sowie Ideen für das kommende Jahr möchten wir in diesem Rahmen besprechen. Die Mitarbeiterinnen des Büros für SIE freuen sich\, mit Interessierten ins Gespräch zu kommen\, um gute Schwerpunkte für das Jahr 2026 setzen zu können. Jederzeit steht das Büro für SIE im Amt für Soziales\, Jugend und Sport für Fragen und Anregungen zur Verfügung. \nDas WIR-Café der Hochschulstadt Idstein\, organisiert vom Amt für Soziales\, Jugend und Sport\, richtet sich als offenes Angebot an alle Idsteiner Bürgerinnen und Bürger mit und ohne Migrationshintergrund sowie gleichermaßen an Geflüchtete\, Geduldete und Menschen mit Inklusionsbedarf. \nFür Rückfragen zur Veranstaltung steht das Amt für Soziales\, Jugend und Sport\, das Büro für Sie – Senioren\, Integration\, Ehrenamt\, Elke Müller\, unter Tel. 06126 78-313 oder per Mail: ehrenamt@idstein.de gerne zur Verfügung.
URL:https://familien-netzwerk-idstein.de/event/weihnachtliches-beisammensein-im-wir-cafe-2/
LOCATION:Haus der Begegnung\, Schulgasse 7\, Idstein\, 65510
END:VEVENT
BEGIN:VEVENT
DTSTART;TZID=Europe/Berlin:20251204T190000
DTEND;TZID=Europe/Berlin:20251204T210000
DTSTAMP:20260420T174809
CREATED:20251203T125033Z
LAST-MODIFIED:20251203T125354Z
UID:3435-1764874800-1764882000@familien-netzwerk-idstein.de
SUMMARY:Digitaler Infoabend: Kindern ein Zuhause geben
DESCRIPTION:Hessen\, 28.11.2025 – Wie wird man Pflegefamilie? Was unterscheidet eine Erziehungsstelle von einer Familiengruppe? Und was bedeutet es eigentlich\, Kindern ein Zuhause auf Zeit oder Dauer zu geben? Antworten auf diese und viele weitere Fragen gibt der nächste digitale Infoabend der Vitos Jugendhilfe am Donnerstag\, 4. Dezember 2025 um 19 Uhr. \nInhalte der Veranstaltung \nInteressierte erhalten einen Einblick in die unterschiedlichen Formen der Vollzeitpflege: von klassischen Pflegefamilien über Erziehungsstellen bis hin zu Familiengruppen. Fachkräfte aus der Jugendhilfe stellen die Angebote vor und berichten aus der Praxis.\nNeben einer Einführung in die Aufgaben und Anforderungen an Erziehungsstellen und Familiengruppen erhalten die Teilnehmenden umfassende Informationen über den Bewerbungsprozess\, die erforderlichen Schulungen sowie die fortlaufende Unterstützung. Es wird aufgezeigt\, wie Familien\, Paare\, Lebensgemeinschaften und Alleinerziehende unabhängig von Familienstand oder Herkunft als Pflegefamilien aktiv werden können. \nKindern ein liebevolles Zuhause geben \nNicht jedes Kind hat die Möglichkeit\, in einem stabilen und fürsorglichen Umfeld aufzuwachsen. Die Gründe können vielfältig sein\, von familiären Krisen bis hin zu schwerwiegenden Herausforderungen wie Vernachlässigung oder psychische Erkrankungen der Eltern. Vitos Jugendhilfe sucht und unterstützt Familien\, die bereit sind\, diesen Kindern ein sicheres Zuhause zu bieten und sie auf ihrem Weg zu begleiten.\nDer digitale Infoabend richtet sich an Menschen\, die sich vorstellen können\, ein Kind bei sich aufzunehmen\, sowie an alle\, die sich allgemein über die verschiedenen Formen der Vollzeitpflege informieren möchten. \nInfoabend: „Kindern ein Zuhause geben“\nTermin: Donnerstag\, 4. Dezember 2025\, 19 Uhr (digital) \nWeitere Informationen und Zugangslink: www.vitos-teilhabe.de \nFür eine bessere Planung bitten wir um Anmeldung bei: \nFrau Michaela Sepanlou\, michaela.sepanlou@vitos-teilhabe.de\, Mobil: 0151 19 36 72 32\nWas sind Erziehungsstellen und Familiengruppen? Erziehungsstellen sind Pflegefamilien mit einer besonderen pädagogischen Qualifikation\, die Kindern in belastenden Situationen langfristig ein Zuhause geben. Familiengruppen hingegen kombinieren die Betreuung von Kindern mit der Möglichkeit\, beruflich in der eigenen Familie tätig zu sein und so die Vereinbarkeit von Beruf und Familie aktiv zu leben.
URL:https://familien-netzwerk-idstein.de/event/digitaler-infoabend/
END:VEVENT
BEGIN:VEVENT
DTSTART;TZID=Europe/Berlin:20251205T170000
DTEND;TZID=Europe/Berlin:20251205T170000
DTSTAMP:20260420T174809
CREATED:20251114T102529Z
LAST-MODIFIED:20251114T103002Z
UID:3378-1764954000-1764954000@familien-netzwerk-idstein.de
SUMMARY:Musikschule Idstein verbreitet Weihnachtsstimmung
DESCRIPTION:In der Vorweihnachtszeit tritt die Musikschule Idstein gleich an zwei aufeinanderfolgenden Tagen in Aktion. \nZunächst findet am Freitag\, 05. Dezember auf dem König- Adolf-Platz vor dem Rathaus zum fünften Mal das Idsteiner Weihnachtssingen im Anschluss an die Eröffnung des Weihnachtsmarktes statt. Ab 17 Uhr sind alle Weihnachtsmarktbesucher wieder herzlich eingeladen\, sich singend auf die Adventszeit einzustimmen. Die Initiatoren\, der Gesangverein „Frohsinn“ Ehrenbach\, der gemischte Chor „Die Hitstaaner“ und die Musikschule Idstein freuen sich darauf\, mit zahlreichen Sangesbegeisterten gemeinsam eine festliche Weihnachtsmarkt- Atmosphäre zu erzeugen. Begleitet von Lehrern und Schülern der Musikschule und von den Chören gesanglich tatkräftig unterstützt werden bekannte Advents- und Weihnachtslieder die Idsteiner Altstadt zum Klingen bringen: Neben traditionellen deutschen Weihnachtsliedern wie „Leise rieselt der Schnee“ oder „Kling Glöckchen“ stehen auch englischsprachige Titel wie „I´m dreaming of a white Christmas“ oder „Jingle Bells“ auf dem Programm. Natürlich wird auch das stimmungsvolle „Feliz Navidad“ an diesem Tag nicht fehlen. Es dürfte also für jeden Geschmack etwas dabei sein. Texthefte stehen in ausreichender Anzahl zur Verfügung und dürfen auch nach dem Singen mit nach Hause genommen werden. Die Initiatoren freuen sich auf zahlreiche Gäste\, um gemeinsam den Zauber der Advents- und Weihnachtszeit zu erleben. \nAm darauffolgenden Samstag\, 6.12. lädt dann das Gitarrenorchester unter der Leitung von Sharam Moghaddam zu einem stimmungsvollen Nachmittag unter dem Motto „Weihnachten in Musik und Dichtung“ in das Gerberhaus Idstein ein. Mit einer Mischung aus Musik und besinnlichen Texten zur Weihnachtszeit möchten die Akteure das Publikum verzaubern und ebenfalls auf die Adventszeit einstimmen. Die Veranstaltung beginnt um 16.00 Uhr. Der Eintritt ist frei. \nWeitere Infos unter www.musikschule-idstein.de.
URL:https://familien-netzwerk-idstein.de/event/musikschule-idstein-verbreitet-weihnachtsstimmung-2/
LOCATION:König-Adolf-Platz\, König-Adolf-Platz\, Idstein\, 65510
END:VEVENT
BEGIN:VEVENT
DTSTART;TZID=Europe/Berlin:20251206T160000
DTEND;TZID=Europe/Berlin:20251206T160000
DTSTAMP:20260420T174809
CREATED:20251114T102645Z
LAST-MODIFIED:20251114T102914Z
UID:3380-1765036800-1765036800@familien-netzwerk-idstein.de
SUMMARY:Musikschule Idstein verbreitet Weihnachtsstimmung
DESCRIPTION:In der Vorweihnachtszeit tritt die Musikschule Idstein gleich an zwei aufeinanderfolgenden Tagen in Aktion. \nZunächst findet am Freitag\, 05. Dezember auf dem König- Adolf-Platz vor dem Rathaus zum fünften Mal das Idsteiner Weihnachtssingen im Anschluss an die Eröffnung des Weihnachtsmarktes statt. Ab 17 Uhr sind alle Weihnachtsmarktbesucher wieder herzlich eingeladen\, sich singend auf die Adventszeit einzustimmen. Die Initiatoren\, der Gesangverein „Frohsinn“ Ehrenbach\, der gemischte Chor „Die Hitstaaner“ und die Musikschule Idstein freuen sich darauf\, mit zahlreichen Sangesbegeisterten gemeinsam eine festliche Weihnachtsmarkt- Atmosphäre zu erzeugen. Begleitet von Lehrern und Schülern der Musikschule und von den Chören gesanglich tatkräftig unterstützt werden bekannte Advents- und Weihnachtslieder die Idsteiner Altstadt zum Klingen bringen: Neben traditionellen deutschen Weihnachtsliedern wie „Leise rieselt der Schnee“ oder „Kling Glöckchen“ stehen auch englischsprachige Titel wie „I´m dreaming of a white Christmas“ oder „Jingle Bells“ auf dem Programm. Natürlich wird auch das stimmungsvolle „Feliz Navidad“ an diesem Tag nicht fehlen. Es dürfte also für jeden Geschmack etwas dabei sein. Texthefte stehen in ausreichender Anzahl zur Verfügung und dürfen auch nach dem Singen mit nach Hause genommen werden. Die Initiatoren freuen sich auf zahlreiche Gäste\, um gemeinsam den Zauber der Advents- und Weihnachtszeit zu erleben. \nAm darauffolgenden Samstag\, 6.12. lädt dann das Gitarrenorchester unter der Leitung von Sharam Moghaddam zu einem stimmungsvollen Nachmittag unter dem Motto „Weihnachten in Musik und Dichtung“ in das Gerberhaus Idstein ein. Mit einer Mischung aus Musik und besinnlichen Texten zur Weihnachtszeit möchten die Akteure das Publikum verzaubern und ebenfalls auf die Adventszeit einstimmen. Die Veranstaltung beginnt um 16.00 Uhr. Der Eintritt ist frei. \nWeitere Infos unter www.musikschule-idstein.de.
URL:https://familien-netzwerk-idstein.de/event/musikschule-idstein-verbreitet-weihnachtsstimmung-3/
LOCATION:Gerberhaus Idstein\, Löherplatz 11a\, Idstein\, 65510\, Deutschland
END:VEVENT
END:VCALENDAR