BEGIN:VCALENDAR
VERSION:2.0
PRODID:-//Kinder fördern, Kinder schützen, Familien stärken - ECPv6.15.20//NONSGML v1.0//EN
CALSCALE:GREGORIAN
METHOD:PUBLISH
X-ORIGINAL-URL:https://familien-netzwerk-idstein.de
X-WR-CALDESC:Veranstaltungen für Kinder fördern, Kinder schützen, Familien stärken
REFRESH-INTERVAL;VALUE=DURATION:PT1H
X-Robots-Tag:noindex
X-PUBLISHED-TTL:PT1H
BEGIN:VTIMEZONE
TZID:Europe/Berlin
BEGIN:DAYLIGHT
TZOFFSETFROM:+0100
TZOFFSETTO:+0200
TZNAME:CEST
DTSTART:20250330T010000
END:DAYLIGHT
BEGIN:STANDARD
TZOFFSETFROM:+0200
TZOFFSETTO:+0100
TZNAME:CET
DTSTART:20251026T010000
END:STANDARD
BEGIN:DAYLIGHT
TZOFFSETFROM:+0100
TZOFFSETTO:+0200
TZNAME:CEST
DTSTART:20260329T010000
END:DAYLIGHT
BEGIN:STANDARD
TZOFFSETFROM:+0200
TZOFFSETTO:+0100
TZNAME:CET
DTSTART:20261025T010000
END:STANDARD
BEGIN:DAYLIGHT
TZOFFSETFROM:+0100
TZOFFSETTO:+0200
TZNAME:CEST
DTSTART:20270328T010000
END:DAYLIGHT
BEGIN:STANDARD
TZOFFSETFROM:+0200
TZOFFSETTO:+0100
TZNAME:CET
DTSTART:20271031T010000
END:STANDARD
END:VTIMEZONE
BEGIN:VEVENT
DTSTART;TZID=Europe/Berlin:20260130T160000
DTEND;TZID=Europe/Berlin:20260130T170000
DTSTAMP:20260420T163108
CREATED:20251203T074600Z
LAST-MODIFIED:20251203T074600Z
UID:3425-1769788800-1769792400@familien-netzwerk-idstein.de
SUMMARY:Der Morki und die Weltraumparty - ein Theaterstück der ganz besonderen Art!
DESCRIPTION:Familienstück für Kinder ab 4 Jahren \nDer Morki und die Weltraumparty – ein Theaterstück der ganz besonderen Art! \nDie Geschichte des Theaterstücks beginnt in Herrn Wilhelms Spielzeugladen. Dort warten kleine und große Spielzeuge darauf\, irgendwann auf der Geburtstagswunschliste eines Kindes zu stehen. Und wirklich: Für die größte Geburtstagsparty des Jahres\, Clarabelles Weltraumparty\, wurde der auffällige Regenbogenhase ausgewählt\, der sich prompt eine Menge drauf einbildet – sehr zum Kummer des kleinen Morki und der Lokomotive\, die unbeachtet im obersten Regalbrett stehen. Für den Morki steht fest: Er muss groß werden! Nur die Großen werden geliebt und gesehen\, nur die Großen dürfen auf die Mega-Party mit simuliertem Mondflug…\nAber ist es wirklich so toll\, für ein solches Riesen-Event ausgesucht zu werden? Und was ist\, wenn die Partyfirma ausfällt\, plötzlich das ganze Weltraum-Ambiente nicht geliefert wird und der Flug zum Mond gar nicht stattfindet? Nachdem es dem kleinen Morki tatsächlich gelungen ist\, sich für eine Weile riesig zu zaubern und zur Party zu gelangen\, erkennt er\, dass die wahre Größe seine eigene Phantasie ist – und natürlich die Phantasie der Kinder. Nur damit lässt sich die Party nämlich retten!\nDurch Mitmachelemente\, wie gemeinsames Singen und Bewegen\, kleine Publikumsaufgaben und eine Traumreise ins All\, inklusive Stagediving\, ist das junge Publikum von Anfang an mittendrin und kann das Theatererlebnis voll auskosten.\nEinlass ist ab 15.30 Uhr\, Karten erhalten Sie im Optikstudio Noé oder unter www.ticket-regional.de
URL:https://familien-netzwerk-idstein.de/event/der-morki-und-die-weltraumparty-ein-theaterstueck-der-ganz-besonderen-art/
LOCATION:Kulturbahnhof Idstein\, Am Güterbahnhof 2\, Idstein\, 65510\, Deutschland
END:VEVENT
END:VCALENDAR